BEGIN:VCALENDAR
VERSION:2.0
PRODID:-//chikkutakku.com//RDFCal 1.0//EN
X-WR-CALDESC:GoogleカレンダーやiCalendar形式情報を共有シェ
 アしましょう。近所のイベントから全国のイベントま
 で今日のイベント検索やスケジュールを決めるならち
 っくたっく
X-WR-CALNAME:ちっくたっく
X-WR-TIMEZONE:UTC
BEGIN:VEVENT
SUMMARY:プロモーショナル・マーケティング・ベーシック
  2026年度改訂版
DTSTART;VALUE=DATE:20260514
DTEND;VALUE=DATE:20260515
UID:274755510070
DESCRIPTION:2026-05-15プロモーショナル・マーケティング・
 ベーシック 2026年度改訂版日本プロモーショナル・マー
 ケティング協会宣伝会議
LOCATION:
END:VEVENT
END:VCALENDAR
