BEGIN:VCALENDAR
VERSION:2.0
PRODID:-//chikkutakku.com//RDFCal 1.0//EN
X-WR-CALDESC:GoogleカレンダーやiCalendar形式情報を共有シェ
 アしましょう。近所のイベントから全国のイベントま
 で今日のイベント検索やスケジュールを決めるならち
 っくたっく
X-WR-CALNAME:ちっくたっく
X-WR-TIMEZONE:UTC
BEGIN:VEVENT
SUMMARY:スタミナ＆スキル
DTSTART;VALUE=DATE-TIME:20260422T083000Z
DTEND;VALUE=DATE-TIME:20260422T110000Z
UID:275062102298
DESCRIPTION:大会前の刺激を入れるメニューをおこないま
 す。\n無理をせずに来てください。
LOCATION:ソユースタジアム\, 日本、〒010-0974 秋田県秋田
 市八橋運動公園１−１０
END:VEVENT
END:VCALENDAR
