BEGIN:VCALENDAR
VERSION:2.0
PRODID:-//chikkutakku.com//RDFCal 1.0//EN
X-WR-CALDESC:GoogleカレンダーやiCalendar形式情報を共有シェ
 アしましょう。近所のイベントから全国のイベントま
 で今日のイベント検索やスケジュールを決めるならち
 っくたっく
X-WR-CALNAME:ちっくたっく
X-WR-TIMEZONE:UTC
BEGIN:VEVENT
SUMMARY:SM Rando Mystery 2026: 
DTSTART;VALUE=DATE-TIME:20260423T020000Z
DTEND;VALUE=DATE-TIME:20260423T033000Z
UID:275334373123
DESCRIPTION:Super Metroid Randomizer 2026 Mystery Tournament\npapaschmo vs
  AceZer0\nhttp://twitch.tv/SpeedGaming\n\n\n[updated 2026-04-22T01:52:13+0
 0:00]
LOCATION:
END:VEVENT
END:VCALENDAR
