BEGIN:VCALENDAR
VERSION:2.0
PRODID:-//chikkutakku.com//RDFCal 1.0//EN
X-WR-CALDESC:GoogleカレンダーやiCalendar形式情報を共有シェ
 アしましょう。近所のイベントから全国のイベントま
 で今日のイベント検索やスケジュールを決めるならち
 っくたっく
X-WR-CALNAME:ちっくたっく
X-WR-TIMEZONE:UTC
BEGIN:VEVENT
SUMMARY:お気楽領主の楽しい領地防衛〜生産系魔術で名も
 なき村を最強の城塞都市に〜 Vol.2 【Blu-ray】
DTSTART;VALUE=DATE:20260519
DTEND;VALUE=DATE:20260520
UID:275364008607
DESCRIPTION:2026-05-20お気楽領主の楽しい領地防衛〜生産系
 魔術で名もなき村を最強の城塞都市に〜 Vol.2 【Blu-ray】
 赤池宗/転/青色まろ/内山夕実/M・A・O/伊瀬茉莉也/中村
 真悟/うたたね歌菜(株)フライングドッグ
LOCATION:
END:VEVENT
END:VCALENDAR
