BEGIN:VCALENDAR
VERSION:2.0
PRODID:-//chikkutakku.com//RDFCal 1.0//EN
X-WR-CALDESC:GoogleカレンダーやiCalendar形式情報を共有シェ
 アしましょう。近所のイベントから全国のイベントま
 で今日のイベント検索やスケジュールを決めるならち
 っくたっく
X-WR-CALNAME:ちっくたっく
X-WR-TIMEZONE:UTC
BEGIN:VEVENT
SUMMARY:M124E-1001-Hernandez-T4:Azucena+Marlon
DTSTART;VALUE=DATE-TIME:20260422T193000Z
DTEND;VALUE=DATE-TIME:20260422T210000Z
UID:275366770706
DESCRIPTION:M124E-1001-Hernandez-T4:Azucena+Marlon
LOCATION:
END:VEVENT
END:VCALENDAR
