BEGIN:VCALENDAR
VERSION:2.0
PRODID:-//chikkutakku.com//RDFCal 1.0//EN
X-WR-CALDESC:GoogleカレンダーやiCalendar形式情報を共有シェ
 アしましょう。近所のイベントから全国のイベントま
 で今日のイベント検索やスケジュールを決めるならち
 っくたっく
X-WR-CALNAME:ちっくたっく
X-WR-TIMEZONE:UTC
BEGIN:VEVENT
SUMMARY:【注】転生賢者の異世界ライフ #1 街を守りたく
 なった / #2 パーティーを組んでみた / #3 強すぎるって
 意味だった / #4 いろいろ異常事態だった / #5 寒くて大
 変みたいだった / #6 怪しい村に潜り込んだ / #7 暗殺者
 に狙われていた / #8 魔物防具を作ってもらった / #9 フ
 ァイアドラゴンと戦った / #10 それどころじゃないみた
 いだった / #11 お告げの通りになった / #12 転生賢者の異
 世界ライフ
DTSTART;VALUE=DATE-TIME:20260425T110000Z
DTEND;VALUE=DATE-TIME:20260425T170000Z
UID:275371147781
DESCRIPTION: / #1 街を守りたくなった / #2 パーティーを組
 んでみた / #3 強すぎるって意味だった / #4 いろいろ異
 常事態だった / #5 寒くて大変みたいだった / #6 怪しい
 村に潜り込んだ / #7 暗殺者に狙われていた / #8 魔物防
 具を作ってもらった / #9 ファイアドラゴンと戦った / #1
 0 それどころじゃないみたいだった / #11 お告げの通り
 になった / #12 転生賢者の異世界ライフ / https://abema.tv/ch
 annels/late-night-anime/slots/AkN7WiVceiU63q リピート放送は 26:00
 ～ https://abema.tv/channels/anime-special-2/slots/AkN7WPvvUepiNs (アニ
 メSPECIAL2チャンネル) 、4/26(日) 8:00～ https://abema.tv/channels
 /late-night-anime/slots/EvABLuy3fQEQgw (無料TS1週間)
LOCATION:深夜アニメ
END:VEVENT
END:VCALENDAR
