BEGIN:VCALENDAR
VERSION:2.0
PRODID:-//chikkutakku.com//RDFCal 1.0//EN
X-WR-CALDESC:GoogleカレンダーやiCalendar形式情報を共有シェ
 アしましょう。近所のイベントから全国のイベントま
 で今日のイベント検索やスケジュールを決めるならち
 っくたっく
X-WR-CALNAME:ちっくたっく
X-WR-TIMEZONE:UTC
BEGIN:VEVENT
SUMMARY:努力の価値が変わる時代の「AI×自分」戦略：メ
 タスキル
DTSTART;VALUE=DATE:20260517
DTEND;VALUE=DATE:20260518
UID:275602476177
DESCRIPTION:2026-05-18努力の価値が変わる時代の「AI×自分」
 戦略：メタスキル深津貴之/古川健介/尾原和啓ニューズ
 ピックス
LOCATION:
END:VEVENT
END:VCALENDAR
