BEGIN:VCALENDAR
VERSION:2.0
PRODID:-//chikkutakku.com//RDFCal 1.0//EN
X-WR-CALDESC:GoogleカレンダーやiCalendar形式情報を共有シェ
 アしましょう。近所のイベントから全国のイベントま
 で今日のイベント検索やスケジュールを決めるならち
 っくたっく
X-WR-CALNAME:ちっくたっく
X-WR-TIMEZONE:UTC
BEGIN:VEVENT
SUMMARY:Bar Bostank×Orange Cafe Fika×おこめ軒 3グループ合同コ
 ラボ Day2
DTSTART;VALUE=DATE-TIME:20260420T103000Z
DTEND;VALUE=DATE-TIME:20260420T113000Z
UID:275640113890
DESCRIPTION:【イベント主催者】\n　ま る お\n【イベント
 内容】\n　BarBostank、OrangeCafe-Fika-、喫茶おこめ軒の3グル
 ープがコラボ！\n本日はOrangeCafe-Fika-での営業になりま
 す！\n\n開催日：毎日！（第1部は毎日開催 第2部は毎月1
 5日、月末日は定休日）\n開催時間：第1部 19˸30~21˸00 第2
 部 22˸30~24˸00\n毎日2部開催！！\nオレンジようちえんの
 キャストが送る！\n交流をメインとしたカフェです！\n
 店員が30人近く在籍！\n毎日店員さんのコンセプトが変
 わります！\n例） メイド ‚和服‚ 園児 ‚動物‚etc\nリ
 ピートしたい方はキャストさんの名前を覚えてみまし
 ょう！\nグループは ORANGE.2788 で検索！\n【イベントジャ
 ンル】\n　店舗系イベント\, 初心者向けイベント\, 定期
 イベント\n【参加条件（モデル、人数制限など）】\n　
 禁止事項\n・動画‚録音（写真撮影は可）\n・重いアバ
 ター（40MB以下にしてください）\n・大きいアバター\n・
 うるさいアバター\n・違法アバター\n・暴言\n・NSFW\n・
 セクハラに該当する行為\n・その他イベントを妨害する
 行為\n【参加方法】\n　グループに加入後、時間になっ
 たらグループ＋インスタンスにJOIN\nグループは ORANGE.278
 8 で検索！\n【備考】\n　※グループ名はオレンジよう
 ちえんとなっておりますが、Orange Cafe -Fika-はオレンジ
 ようちえんグループインスタンスで行いますのでご了
 承ください。\nグループはこちらから→https://vrc.group/ORA
 NGE.2788\n公式Xはこちらから→https://x.com/vrcorangekids
LOCATION:
END:VEVENT
END:VCALENDAR
