BEGIN:VCALENDAR
VERSION:2.0
PRODID:-//chikkutakku.com//RDFCal 1.0//EN
X-WR-CALDESC:GoogleカレンダーやiCalendar形式情報を共有シェ
 アしましょう。近所のイベントから全国のイベントま
 で今日のイベント検索やスケジュールを決めるならち
 っくたっく
X-WR-CALNAME:ちっくたっく
X-WR-TIMEZONE:UTC
BEGIN:VEVENT
SUMMARY:Childhood Cancer Fundraiser
DTSTART;VALUE=DATE:20260425
DTEND;VALUE=DATE:20260426
UID:275954488408
DESCRIPTION:🎗️ SOLIDIFIED FOR A CURE: SWEENEY'S GYM 🎗️20 Year An
 niversary &amp\; Childhood Cancer FundraiserJoin us as we celebrate 20 ye
 ars of Sweeney’s Gym while supporting Childhood Cancer Research and l
 ocal community causes. Two great events. One powerful mission. 💙🔥 T
 wo Causes. One Day — Saturday\, April 25thSupporting Oak Creek Youth LEO
  Club🩸 Hope is in Bloom Blood Drive📅 April 25 | 9:00 AM – 3:00 PM
 📍 Salvation Army\, 8853 S. Howell Ave.🥪 Cousins Subs sandwich perk i
 ncluded!🍷 Lions Zone Beer &amp\; Wine Tasting📅 April 25 | 7:00 PM 
 – 10:00 PM📍 St. Francis Lion's Center\, 3476 E. Howard Ave.🎟️ $3
 0 Advance | $35 at the Door🎟️ Social Hour at 6:00 PM | Multiple raffl
 es💥 Main Event — Saturday\, May 9thSweeney’s Gym 20 Year Anniversa
 ry &amp\; Childhood Cancer Fundraiser📅 May 9 | 2:00 PM Start📍 Sweene
 y’s Gym\, 6050 S. Howell Ave.🎗️ Benefiting Marquette University Chi
 ldhood Cancer Research🎟️ Multiple raffles | Great cause | Big impact
 💪 Two Weeks. Three Causes. One Unstoppable Impact.Join us. Support the 
 cause. Make a difference.#SolidifiedForACure #SweeneysGym #ChildhoodCancer
 Awareness #LionsClub #CommunityStrong #OakCreek #MakeADiffe
LOCATION:
END:VEVENT
END:VCALENDAR
