BEGIN:VCALENDAR
VERSION:2.0
PRODID:-//chikkutakku.com//RDFCal 1.0//EN
X-WR-CALDESC:GoogleカレンダーやiCalendar形式情報を共有シェ
 アしましょう。近所のイベントから全国のイベントま
 で今日のイベント検索やスケジュールを決めるならち
 っくたっく
X-WR-CALNAME:ちっくたっく
X-WR-TIMEZONE:UTC
BEGIN:VEVENT
SUMMARY:原作都合で消される強キャラに転生した俺、破滅
 エンドを回避して自由気ままに世界を蹂躙する 2
DTSTART;VALUE=DATE:20260519
DTEND;VALUE=DATE:20260520
UID:275977735627
DESCRIPTION:2026-05-20原作都合で消される強キャラに転生し
 た俺、破滅エンドを回避して自由気ままに世界を蹂躙
 する 2十利ハレ/詰め木オーバーラップ
LOCATION:
END:VEVENT
END:VCALENDAR
