BEGIN:VCALENDAR
VERSION:2.0
PRODID:-//chikkutakku.com//RDFCal 1.0//EN
X-WR-CALDESC:GoogleカレンダーやiCalendar形式情報を共有シェ
 アしましょう。近所のイベントから全国のイベントま
 で今日のイベント検索やスケジュールを決めるならち
 っくたっく
X-WR-CALNAME:ちっくたっく
X-WR-TIMEZONE:UTC
BEGIN:VEVENT
SUMMARY:[AtCoder] Polaris.AI Programming Contest 2026（ABC 457） / Polar
 is.AI プログラミングコンテスト 2026（ABC 457）
DTSTART;VALUE=DATE-TIME:20260509T120000Z
DTEND;VALUE=DATE-TIME:20260509T134000Z
UID:276034311878
DESCRIPTION:Polaris.AI Programming Contest 2026（AtCoder Beginner Contest
  457） / Polaris.AI プログラミングコンテスト 2026（AtCoder B
 eginner Contest 457）
LOCATION:https://atcoder.jp/contests/abc457
END:VEVENT
END:VCALENDAR
