BEGIN:VCALENDAR
VERSION:2.0
PRODID:-//chikkutakku.com//RDFCal 1.0//EN
X-WR-CALDESC:GoogleカレンダーやiCalendar形式情報を共有シェ
 アしましょう。近所のイベントから全国のイベントま
 で今日のイベント検索やスケジュールを決めるならち
 っくたっく
X-WR-CALNAME:ちっくたっく
X-WR-TIMEZONE:UTC
BEGIN:VEVENT
SUMMARY:【セット商品】n-fig ポケットモンスター4種（ピ
 カチュウ、ヒトカゲ、フシギダネ、ゼニガメ）
DTSTART;VALUE=DATE:20260522
DTEND;VALUE=DATE:20260523
UID:276522459387
DESCRIPTION:2026-05-23【セット商品】n-fig ポケットモンスタ
 ー4種（ピカチュウ、ヒトカゲ、フシギダネ、ゼニガメ
 ）カワダ
LOCATION:
END:VEVENT
END:VCALENDAR
