BEGIN:VCALENDAR
VERSION:2.0
PRODID:-//chikkutakku.com//RDFCal 1.0//EN
X-WR-CALDESC:GoogleカレンダーやiCalendar形式情報を共有シェ
 アしましょう。近所のイベントから全国のイベントま
 で今日のイベント検索やスケジュールを決めるならち
 っくたっく
X-WR-CALNAME:ちっくたっく
X-WR-TIMEZONE:UTC
BEGIN:VEVENT
SUMMARY:Nebula
DTSTART;VALUE=DATE-TIME:20260423T131500Z
DTEND;VALUE=DATE-TIME:20260423T144500Z
UID:276652634994
DESCRIPTION:【イベント主催者】\n　あろん＃\n【イベント
 内容】\n　天使と悪魔と堕天使の１：１個室接客没入型
 RPイベント\n御翅様（みはねさま）と呼ばれる存在との2
 0分間の空間\n異世界の世界観をご堪能くださいませ\n【
 イベントジャンル】\n　ロールプレイ\n【参加条件（モ
 デル、人数制限など）】\n　PCVR only　著作権に引っかか
 る恐れのあるアバターはお控えください\n【参加方法】
 \n　時間になったらインスタンスリーダーにリクエスト
 インバイト\n【備考】\n　
LOCATION:
END:VEVENT
END:VCALENDAR
