BEGIN:VCALENDAR
VERSION:2.0
PRODID:-//chikkutakku.com//RDFCal 1.0//EN
X-WR-CALDESC:GoogleカレンダーやiCalendar形式情報を共有シェ
 アしましょう。近所のイベントから全国のイベントま
 で今日のイベント検索やスケジュールを決めるならち
 っくたっく
X-WR-CALNAME:ちっくたっく
X-WR-TIMEZONE:UTC
BEGIN:VEVENT
SUMMARY:【Android 対応】ムルカフェ
DTSTART;VALUE=DATE-TIME:20260424T120000Z
DTEND;VALUE=DATE-TIME:20260424T130000Z
UID:276654349912
DESCRIPTION:【イベント主催者】\n　zeruriga\n【イベント内
 容】\n　いろいろなムルル達が店員として、ちいさいお
 ててでお客様をおもてなしする喫茶店風イベントです
 ！\n詳細はムルカフェ公式X（＠murucafe） を確認してく
 ださい\n【イベントジャンル】\n　店舗系イベント\, 定
 期イベント\n【参加条件（モデル、人数制限など）】\n
 　お客様の使用アバターは禁止事項、注意事項に抵触
 するものでなければ何でもOK！色んなお客様の来店をお
 待ちしております！\n【参加方法】\n　グループインス
 タンスへjoin【MRCAFE.7317】\n【備考】\n　Xのハッシュタグ
 （＃ムルカフェ） \nムルカフェ公式X（＠murucafe）
LOCATION:
END:VEVENT
END:VCALENDAR
