BEGIN:VCALENDAR
VERSION:2.0
PRODID:-//chikkutakku.com//RDFCal 1.0//EN
X-WR-CALDESC:GoogleカレンダーやiCalendar形式情報を共有シェ
 アしましょう。近所のイベントから全国のイベントま
 で今日のイベント検索やスケジュールを決めるならち
 っくたっく
X-WR-CALNAME:ちっくたっく
X-WR-TIMEZONE:UTC
BEGIN:VEVENT
SUMMARY:お絵かき集会inペンの多い集会所
DTSTART;VALUE=DATE-TIME:20260421T124000Z
DTEND;VALUE=DATE-TIME:20260421T140000Z
UID:276867621774
DESCRIPTION:【イベント主催者】\n　Gunberry\n【イベント内
 容】\n　ペンの多い集会所で色々なQvPenで楽しく自由に
 お絵かきをしましょうという集会です。無言、見学歓
 迎、途中出入り歓迎。楽しい気持ちになれる体験の場
 を目指しています。「Gunberry」までフレンド申請後Join
 か、OEKAKI.4177のグループインスタンスJoin\n※開場が早い
 場合がございます。 \n【イベントジャンル】\n　その他
 交流会\n【参加条件（モデル、人数制限など）】\n　意
 思疎通ができる\n【参加方法】\n　ID「Gunberry」か「桜庭
 （sakuraba）」までフレンド申請後Joinか、VRCお絵かき部
 グループ「OEKAKI.4177」に参加してグループインスタンス
 からJoinできます！\n【備考】\n　
LOCATION:
END:VEVENT
END:VCALENDAR
