BEGIN:VCALENDAR
VERSION:2.0
PRODID:-//chikkutakku.com//RDFCal 1.0//EN
X-WR-CALDESC:GoogleカレンダーやiCalendar形式情報を共有シェ
 アしましょう。近所のイベントから全国のイベントま
 で今日のイベント検索やスケジュールを決めるならち
 っくたっく
X-WR-CALNAME:ちっくたっく
X-WR-TIMEZONE:UTC
BEGIN:VEVENT
SUMMARY:老後に備えて異世界で8万枚の金貨を貯めます11
DTSTART;VALUE=DATE:20260430
DTEND;VALUE=DATE:20260501
UID:277226372090
DESCRIPTION:2026-05-01老後に備えて異世界で8万枚の金貨を貯
 めます11FUNA/モトエ 恵介講談社
LOCATION:
END:VEVENT
END:VCALENDAR
