BEGIN:VCALENDAR
VERSION:2.0
PRODID:-//chikkutakku.com//RDFCal 1.0//EN
X-WR-CALDESC:GoogleカレンダーやiCalendar形式情報を共有シェ
 アしましょう。近所のイベントから全国のイベントま
 で今日のイベント検索やスケジュールを決めるならち
 っくたっく
X-WR-CALNAME:ちっくたっく
X-WR-TIMEZONE:UTC
BEGIN:VEVENT
SUMMARY:農地と担い手をどうつなぐか : 農地政策の変遷と
 地域分析
DTSTART;VALUE=DATE:20260506
DTEND;VALUE=DATE:20260507
UID:277245893922
DESCRIPTION:2026-05-07農地と担い手をどうつなぐか : 農地政
 策の変遷と地域分析農山漁村文化協会
LOCATION:
END:VEVENT
END:VCALENDAR
