BEGIN:VCALENDAR
VERSION:2.0
PRODID:-//chikkutakku.com//RDFCal 1.0//EN
X-WR-CALDESC:GoogleカレンダーやiCalendar形式情報を共有シェ
 アしましょう。近所のイベントから全国のイベントま
 で今日のイベント検索やスケジュールを決めるならち
 っくたっく
X-WR-CALNAME:ちっくたっく
X-WR-TIMEZONE:UTC
BEGIN:VEVENT
SUMMARY:🎯VRC Darts Bar『secret base』
DTSTART;VALUE=DATE-TIME:20260422T140000Z
DTEND;VALUE=DATE-TIME:20260422T145900Z
UID:277459065851
DESCRIPTION:【イベント主催者】\n　かちぃお\n【イベント
 内容】\n　大人の小さな秘密基地をイメージしたVRC内の
 ダーツバーイベントです！ \n初心者さん大歓迎ですの
 でお気軽にご参加ください♪ \n開催時間「毎週水曜日23
 時〜24時」\n【イベントジャンル】\n　その他交流会\, VR
 飲み会\, 店舗系イベント\, 定期イベント\n【参加条件（
 モデル、人数制限など）】\n　アバター身長160cm以下のN
 SFWに該当しない良識のあるアバターでご参加ください
 。\nsit判定がありませんのでOVRを設定していただくか身
 長を適宜設定していただくことをお勧めします。\nイン
 スタンス最大人数12名\n【参加方法】\n　group＋にJOIN\n\ng
 roup\n〇Darts Bar『secret base』\n(https://vrchat.com/home/group/grp_44
 76d1e1-37a3-462f-9aa5-f06fdf13d974)\n【備考】\n　https://x.com/secret
 base1106
LOCATION:
END:VEVENT
END:VCALENDAR
