BEGIN:VCALENDAR
VERSION:2.0
PRODID:-//chikkutakku.com//RDFCal 1.0//EN
X-WR-CALDESC:GoogleカレンダーやiCalendar形式情報を共有シェ
 アしましょう。近所のイベントから全国のイベントま
 で今日のイベント検索やスケジュールを決めるならち
 っくたっく
X-WR-CALNAME:ちっくたっく
X-WR-TIMEZONE:UTC
BEGIN:VEVENT
SUMMARY:(B) Paperback Structure + Link: A Classic Binding with a Modern Ap
 proach
DTSTART;VALUE=DATE-TIME:20260501T143000Z
DTEND;VALUE=DATE-TIME:20260501T220000Z
UID:277883932761
DESCRIPTION:Class Google Doc: https://docs.google.com/document/d/1fGVmE4E
 eNsD5bciBNYHGVSrXmJ7cDYgMjiIC92gB68w/edit?tab=t.0#heading=h.buinjym0mnwaWe
 bsite Listing: https://shop.centerforbookarts.org/products/26SBB010I\n\n
 通过 Google Meet 加入：https://meet.google.com/rpf-kkbn-xuy\n或者
 拨打以下号码：(US) +1 260-351-1982 PIN 码： 132269337#\n更多电
 话号码: https://tel.meet/rpf-kkbn-xuy?pin=5216011333823&hs=7\n\n如需
 详细了解 Google Meet，请访问：https://support.google.com/a/users/
 answer/9282720
LOCATION:
END:VEVENT
END:VCALENDAR
