BEGIN:VCALENDAR
VERSION:2.0
PRODID:-//chikkutakku.com//RDFCal 1.0//EN
X-WR-CALDESC:GoogleカレンダーやiCalendar形式情報を共有シェ
 アしましょう。近所のイベントから全国のイベントま
 で今日のイベント検索やスケジュールを決めるならち
 っくたっく
X-WR-CALNAME:ちっくたっく
X-WR-TIMEZONE:UTC
BEGIN:VEVENT
SUMMARY:11:00ぱーてぃーちゃん
DTSTART;VALUE=DATE:20260424
DTEND;VALUE=DATE:20260425
UID:277992491142
DESCRIPTION:ぱーてぃーちゃん お笑いミニライブ！／新し
 くなったイオンモール神戸北をぱーてぃーちゃんが盛
 り上げます！■日程　4/25(土)■時間　(1)11:00～　(2)15:00
 ～
LOCATION:イオンモール神戸北
END:VEVENT
END:VCALENDAR
