BEGIN:VCALENDAR
VERSION:2.0
PRODID:-//chikkutakku.com//RDFCal 1.0//EN
X-WR-CALDESC:GoogleカレンダーやiCalendar形式情報を共有シェ
 アしましょう。近所のイベントから全国のイベントま
 で今日のイベント検索やスケジュールを決めるならち
 っくたっく
X-WR-CALNAME:ちっくたっく
X-WR-TIMEZONE:UTC
BEGIN:VEVENT
SUMMARY:花ざかりの君たちへ Blu-ray Disc BOX Vol.1(完全生産限
 定版)【Blu-ray】
DTSTART;VALUE=DATE:20260512
DTEND;VALUE=DATE:20260513
UID:278580392640
DESCRIPTION:2026-05-13花ざかりの君たちへ Blu-ray Disc BOX Vol.1(
 完全生産限定版)【Blu-ray】中条比紗也/山根綺/八代拓/戸
 谷菊之介/梅原裕一郎/福山潤/蘇詩宜/横山克(株)アニプ
 レックス
LOCATION:
END:VEVENT
END:VCALENDAR
