BEGIN:VCALENDAR
VERSION:2.0
PRODID:-//chikkutakku.com//RDFCal 1.0//EN
X-WR-CALDESC:GoogleカレンダーやiCalendar形式情報を共有シェ
 アしましょう。近所のイベントから全国のイベントま
 で今日のイベント検索やスケジュールを決めるならち
 っくたっく
X-WR-CALNAME:ちっくたっく
X-WR-TIMEZONE:UTC
BEGIN:VEVENT
SUMMARY:P大宮練習（ラージススタジオ）
DTSTART;VALUE=DATE-TIME:20260503T074000Z
DTEND;VALUE=DATE-TIME:20260503T092000Z
UID:278626544472
DESCRIPTION:P大宮練習（ラージススタジオ）
LOCATION:大宮 ラージス レンタルスタジオ\, 日本、〒330-08
 46 埼玉県さいたま市大宮区大門町３丁目８２−３ 大和
 （やまと）ビル3F
END:VEVENT
END:VCALENDAR
