BEGIN:VCALENDAR
VERSION:2.0
PRODID:-//chikkutakku.com//RDFCal 1.0//EN
X-WR-CALDESC:GoogleカレンダーやiCalendar形式情報を共有シェ
 アしましょう。近所のイベントから全国のイベントま
 で今日のイベント検索やスケジュールを決めるならち
 っくたっく
X-WR-CALNAME:ちっくたっく
X-WR-TIMEZONE:UTC
BEGIN:VEVENT
SUMMARY:沢尻エリカ写真集『DAY OFF』
DTSTART;VALUE=DATE:20260522
DTEND;VALUE=DATE:20260523
UID:279182658746
DESCRIPTION:2026-05-23沢尻エリカ写真集『DAY OFF』沢尻 エリ
 カ幻冬舎
LOCATION:
END:VEVENT
END:VCALENDAR
