BEGIN:VCALENDAR
VERSION:2.0
PRODID:-//chikkutakku.com//RDFCal 1.0//EN
X-WR-CALDESC:GoogleカレンダーやiCalendar形式情報を共有シェ
 アしましょう。近所のイベントから全国のイベントま
 で今日のイベント検索やスケジュールを決めるならち
 っくたっく
X-WR-CALNAME:ちっくたっく
X-WR-TIMEZONE:UTC
BEGIN:VEVENT
SUMMARY:St. Basiliscus Bishop of Comana +308
DTSTART;VALUE=DATE-TIME:20260521T183000Z
DTEND;VALUE=DATE-TIME:20260522T183000Z
UID:279578561712
DESCRIPTION:The nephew of the Great Martyr Theodore the Recruit. he suffer
 ed together with his brothers Eutropius and Kleonikos during the persecuti
 on of the emperor Maximian Galerius\n\nRSoH
LOCATION:
END:VEVENT
END:VCALENDAR
