BEGIN:VCALENDAR
VERSION:2.0
PRODID:-//chikkutakku.com//RDFCal 1.0//EN
X-WR-CALDESC:GoogleカレンダーやiCalendar形式情報を共有シェ
 アしましょう。近所のイベントから全国のイベントま
 で今日のイベント検索やスケジュールを決めるならち
 っくたっく
X-WR-CALNAME:ちっくたっく
X-WR-TIMEZONE:UTC
BEGIN:VEVENT
SUMMARY:生まれた直後に捨てられたけど、前世が大賢者だ
 ったので余裕で生きてます 〜最強赤ちゃん大暴走〜（1
 5）
DTSTART;VALUE=DATE:20260512
DTEND;VALUE=DATE:20260513
UID:279608291790
DESCRIPTION:2026-05-13生まれた直後に捨てられたけど、前世
 が大賢者だったので余裕で生きてます 〜最強赤ちゃん
 大暴走〜（15）遠田マリモ/九頭七尾/鍋島テツヒロ株式
 会社アース・スター エンターテイメント
LOCATION:
END:VEVENT
END:VCALENDAR
