BEGIN:VCALENDAR
VERSION:2.0
PRODID:-//chikkutakku.com//RDFCal 1.0//EN
X-WR-CALDESC:GoogleカレンダーやiCalendar形式情報を共有シェ
 アしましょう。近所のイベントから全国のイベントま
 で今日のイベント検索やスケジュールを決めるならち
 っくたっく
X-WR-CALNAME:ちっくたっく
X-WR-TIMEZONE:UTC
BEGIN:VEVENT
SUMMARY:岸田衿子の詩による無伴奏混声合唱曲集 うたを
 うたうのはわすれても［新版］
DTSTART;VALUE=DATE:20260421
DTEND;VALUE=DATE:20260422
UID:279649997632
DESCRIPTION:2026-04-22岸田衿子の詩による無伴奏混声合唱曲
 集 うたをうたうのはわすれても［新版］岸田衿子/津田
 元株式会社音楽之友社
LOCATION:
END:VEVENT
END:VCALENDAR
