BEGIN:VCALENDAR
VERSION:2.0
PRODID:-//chikkutakku.com//RDFCal 1.0//EN
X-WR-CALDESC:GoogleカレンダーやiCalendar形式情報を共有シェ
 アしましょう。近所のイベントから全国のイベントま
 で今日のイベント検索やスケジュールを決めるならち
 っくたっく
X-WR-CALNAME:ちっくたっく
X-WR-TIMEZONE:UTC
BEGIN:VEVENT
SUMMARY:2027年度用 C6 市川高等学校5年間スーパー過去問
DTSTART;VALUE=DATE:20260517
DTEND;VALUE=DATE:20260518
UID:279667420945
DESCRIPTION:2026-05-182027年度用 C6 市川高等学校5年間スーパ
 ー過去問声の教育社
LOCATION:
END:VEVENT
END:VCALENDAR
