BEGIN:VCALENDAR
VERSION:2.0
PRODID:-//chikkutakku.com//RDFCal 1.0//EN
X-WR-CALDESC:GoogleカレンダーやiCalendar形式情報を共有シェ
 アしましょう。近所のイベントから全国のイベントま
 で今日のイベント検索やスケジュールを決めるならち
 っくたっく
X-WR-CALNAME:ちっくたっく
X-WR-TIMEZONE:UTC
BEGIN:VEVENT
SUMMARY:【Android 対応】VRC博物喫茶
DTSTART;VALUE=DATE-TIME:20260505T120000Z
DTEND;VALUE=DATE-TIME:20260505T140000Z
UID:280289450925
DESCRIPTION:【イベント主催者】\n　モオリス（moris917）\n
 【イベント内容】\n　生物・文化・言語・科学史などな
 ど…博物学・博物館っぽい事を雑談するイベントです
 。\n【イベントジャンル】\n　その他交流会\, 学術系イ
 ベント\, 定期イベント\n【参加条件（モデル、人数制限
 など）】\n　博物学・人類学っぽいことに興味があれば
 どなたでも\n【参加方法】\n　モオリス（moris917）をフ
 レンド登録&Join\n【備考】\n　https://twitter.com/forespecs/statu
 s/1566064072608477186?s=20&t=8IUU10pxwnledmChu7Szlg
LOCATION:
END:VEVENT
END:VCALENDAR
