BEGIN:VCALENDAR
VERSION:2.0
PRODID:-//chikkutakku.com//RDFCal 1.0//EN
X-WR-CALDESC:GoogleカレンダーやiCalendar形式情報を共有シェ
 アしましょう。近所のイベントから全国のイベントま
 で今日のイベント検索やスケジュールを決めるならち
 っくたっく
X-WR-CALNAME:ちっくたっく
X-WR-TIMEZONE:UTC
BEGIN:VEVENT
SUMMARY:【店舗系イベント】VRCスクールカフェ " Daisy Days "
DTSTART;VALUE=DATE-TIME:20260422T140000Z
DTEND;VALUE=DATE-TIME:20260422T145900Z
UID:280517523588
DESCRIPTION:【イベント主催者】\n　sq*\n【イベント内容】\
 n　【 通常営業 】ラブコメ漫画や恋愛シミュレーショ
 ンゲームの世界観をベースに生徒たちと過ごす学校の
 お昼休みをイメージしたコンセプトカフェ。VRChatで学
 校生活、はじめてみませんか？毎月 第2\, 4\, 5 水曜日の
 23時～24時、皆さんのご登校を生徒一同心よりお待ちし
 ております！ ハッシュタグ : #VRCスクールカフェGS\n【
 イベントジャンル】\n　店舗系イベント\, ロールプレイ
 \, 定期イベント\n【参加条件（モデル、人数制限など）
 】\n　制服改変は必要ありませんが、160cm以内の人型ア
 バターを推奨します！各インスタンス定員は公式Twitter
 より告知します。\n【参加方法】\n　当日23時にインス
 タンスリーダー(Join先)へJoin / Join先など詳細は公式Twitte
 rより告知されます (必ずインスタンス代表者からJoinし
 てください)\n【備考】\n　
LOCATION:
END:VEVENT
END:VCALENDAR
