BEGIN:VCALENDAR
VERSION:2.0
PRODID:-//chikkutakku.com//RDFCal 1.0//EN
X-WR-CALDESC:GoogleカレンダーやiCalendar形式情報を共有シェ
 アしましょう。近所のイベントから全国のイベントま
 で今日のイベント検索やスケジュールを決めるならち
 っくたっく
X-WR-CALNAME:ちっくたっく
X-WR-TIMEZONE:UTC
BEGIN:VEVENT
SUMMARY:八年級APP設計比賽(每班2位)
DTSTART;VALUE=DATE-TIME:20260512T233000Z
DTEND;VALUE=DATE-TIME:20260513T010500Z
UID:281460917890
DESCRIPTION:八年級APP設計比賽(每班2位)
LOCATION:
END:VEVENT
END:VCALENDAR
