BEGIN:VCALENDAR
VERSION:2.0
PRODID:-//chikkutakku.com//RDFCal 1.0//EN
X-WR-CALDESC:GoogleカレンダーやiCalendar形式情報を共有シェ
 アしましょう。近所のイベントから全国のイベントま
 で今日のイベント検索やスケジュールを決めるならち
 っくたっく
X-WR-CALNAME:ちっくたっく
X-WR-TIMEZONE:UTC
BEGIN:VEVENT
SUMMARY:【Android 対応】Dirty jokes(下ネタ＆猥談)Bar Six
DTSTART;VALUE=DATE-TIME:20260424T140000Z
DTEND;VALUE=DATE-TIME:20260424T150000Z
UID:281557577710
DESCRIPTION:【イベント主催者】\n　HELLにゃんこ\n【イベン
 ト内容】\n　皆様は普段から下ネタや猥談を言えてます
 か？お仕事や学校では他の人を気にして中々を言えな
 い。VRC内でも苦手な人が居るから遠慮して言えない。
 そんな事ってありませんか？そんな方に当店のBARは普
 段押さえられている下ネタ・猥談を吐き出す事によっ
 てストレス解消する事を目的としたBARです。BARであり
 居酒屋の様なテンションで営業しております。是非御
 気軽にご来店下さい！\n【イベントジャンル】\n　その
 他交流会\, VR飲み会\n【参加条件（モデル、人数制限な
 ど）】\n　専用グループに注意事項を記載しております
 。URLの方からグループに参加し必ずルールを確認する
 様にお願い致します。https://vrchat.com/home/group/grp_28ee4093-4
 a76-41c6-8c39-7ef37a025793\n【参加方法】\n　「Dirty joke Bar Six
 」グループに参加後グループインスタンスにjoin\n【備
 考】\n　
LOCATION:
END:VEVENT
END:VCALENDAR
