BEGIN:VCALENDAR
VERSION:2.0
PRODID:-//chikkutakku.com//RDFCal 1.0//EN
X-WR-CALDESC:GoogleカレンダーやiCalendar形式情報を共有シェ
 アしましょう。近所のイベントから全国のイベントま
 で今日のイベント検索やスケジュールを決めるならち
 っくたっく
X-WR-CALNAME:ちっくたっく
X-WR-TIMEZONE:UTC
BEGIN:VEVENT
SUMMARY:株投資の基本中の基本
DTSTART;VALUE=DATE:20260424
DTEND;VALUE=DATE:20260425
UID:281638328444
DESCRIPTION:2026-04-25株投資の基本中の基本鈴木修二著者セ
 ンター
LOCATION:
END:VEVENT
END:VCALENDAR
