BEGIN:VCALENDAR
VERSION:2.0
PRODID:-//chikkutakku.com//RDFCal 1.0//EN
X-WR-CALDESC:GoogleカレンダーやiCalendar形式情報を共有シェ
 アしましょう。近所のイベントから全国のイベントま
 で今日のイベント検索やスケジュールを決めるならち
 っくたっく
X-WR-CALNAME:ちっくたっく
X-WR-TIMEZONE:UTC
BEGIN:VEVENT
SUMMARY:人混みに疲れたら、barラルトレ
DTSTART;VALUE=DATE-TIME:20260424T140500Z
DTEND;VALUE=DATE-TIME:20260424T150000Z
UID:281942752996
DESCRIPTION:【イベント主催者】\n　るなかん\n【イベント
 内容】\n　界隈やフレンド申請に少し疲れた夜に。\n一
 期一会を、可愛いキャストやおしゃべりな店長と。\nラ
 ルトレは、グループ限定・フレンド申請なしの静かな
 空間です\n【イベントジャンル】\n　その他交流会\, VR
 飲み会\n【参加条件（モデル、人数制限など）】\n　ア
 バター容量50M以下\n【参加方法】\n　グループに参加申
 請\n【備考】\n　https://vrc.group/RALTRE.5251
LOCATION:
END:VEVENT
END:VCALENDAR
