BEGIN:VCALENDAR
VERSION:2.0
PRODID:-//chikkutakku.com//RDFCal 1.0//EN
X-WR-CALDESC:GoogleカレンダーやiCalendar形式情報を共有シェ
 アしましょう。近所のイベントから全国のイベントま
 で今日のイベント検索やスケジュールを決めるならち
 っくたっく
X-WR-CALNAME:ちっくたっく
X-WR-TIMEZONE:UTC
BEGIN:VEVENT
SUMMARY:［DJ Event］ CHiLL BLACK
DTSTART;VALUE=DATE-TIME:20260425T120000Z
DTEND;VALUE=DATE-TIME:20260425T145900Z
UID:282287167041
DESCRIPTION:【イベント主催者】\n　Kasparoff\n【イベント内
 容】\n　https://vrc.group/BLACK.6386　今回はゆったりした感
 じで開催しようと思います。\n【イベントジャンル】\n
 　その他交流会\, VR飲み会\, 音楽系イベント\, 定期イベ
 ント\n【参加条件（モデル、人数制限など）】\n　グル
 ープに参加し時間になったらインスタンスへ、もしく
 は直接会場にお越しください。\n【参加方法】\n　またN
 SFWを守った内容のアバターでお越しください\n【備考】
 \n　
LOCATION:
END:VEVENT
END:VCALENDAR
