BEGIN:VCALENDAR
VERSION:2.0
PRODID:-//chikkutakku.com//RDFCal 1.0//EN
X-WR-CALDESC:GoogleカレンダーやiCalendar形式情報を共有シェ
 アしましょう。近所のイベントから全国のイベントま
 で今日のイベント検索やスケジュールを決めるならち
 っくたっく
X-WR-CALNAME:ちっくたっく
X-WR-TIMEZONE:UTC
BEGIN:VEVENT
SUMMARY:(รองไพฑูรย์)ร่วมเป็นเกี
 ยรติในพิธีเปิดโครงกานการ
 พัฒนาเมืองกีฬา(Sport City) ณ สวนสา
 ธารณะ ลานออดหลอด "อนุสรณ์  238
 ปี จังหวัดศรีสะเกษ"
DTSTART;VALUE=DATE-TIME:20260425T120000Z
DTEND;VALUE=DATE-TIME:20260425T140000Z
UID:282418195537
DESCRIPTION:(รองไพฑูรย์)ร่วมเป็นเก
 ียรติในพิธีเปิดโครงกานกา
 รพัฒนาเมืองกีฬา(Sport City) ณ สวนส
 าธารณะ ลานออดหลอด "อนุสรณ์  
 238ปี จังหวัดศรีสะเกษ"
LOCATION:
END:VEVENT
END:VCALENDAR
