BEGIN:VCALENDAR
VERSION:2.0
PRODID:-//chikkutakku.com//RDFCal 1.0//EN
X-WR-CALDESC:GoogleカレンダーやiCalendar形式情報を共有シェ
 アしましょう。近所のイベントから全国のイベントま
 で今日のイベント検索やスケジュールを決めるならち
 っくたっく
X-WR-CALNAME:ちっくたっく
X-WR-TIMEZONE:UTC
BEGIN:VEVENT
SUMMARY:長久手古戦場記念館オープニングイベント
DTSTART;VALUE=DATE-TIME:20260426T023000Z
DTEND;VALUE=DATE-TIME:20260426T050000Z
UID:282956491854
DESCRIPTION:出陣：三平、草二、遊\n\nhttps://www.nagakute-kanko.j
 p/wp-content/uploads/2026/04/kosenjo-openning-event.pdf
LOCATION:古戦場公園\, 日本、〒480-1121 愛知県長久手市武
 蔵塚２０４
END:VEVENT
END:VCALENDAR
