BEGIN:VCALENDAR
VERSION:2.0
PRODID:-//chikkutakku.com//RDFCal 1.0//EN
X-WR-CALDESC:GoogleカレンダーやiCalendar形式情報を共有シェ
 アしましょう。近所のイベントから全国のイベントま
 で今日のイベント検索やスケジュールを決めるならち
 っくたっく
X-WR-CALNAME:ちっくたっく
X-WR-TIMEZONE:UTC
BEGIN:VEVENT
SUMMARY:位置情報がつくる未来ビジネス　AIと人流データ
 時代のデジタル社会基盤
DTSTART;VALUE=DATE:20260423
DTEND;VALUE=DATE:20260424
UID:283145940771
DESCRIPTION:2026-04-24位置情報がつくる未来ビジネス　AIと
 人流データ時代のデジタル社会基盤中島 円/片岡 義明
 インプレス NextPublishing
LOCATION:
END:VEVENT
END:VCALENDAR
