BEGIN:VCALENDAR
VERSION:2.0
PRODID:-//chikkutakku.com//RDFCal 1.0//EN
X-WR-CALDESC:GoogleカレンダーやiCalendar形式情報を共有シェ
 アしましょう。近所のイベントから全国のイベントま
 で今日のイベント検索やスケジュールを決めるならち
 っくたっく
X-WR-CALNAME:ちっくたっく
X-WR-TIMEZONE:UTC
BEGIN:VEVENT
SUMMARY:治療(CHIRYO)2026年108巻5月号（No.6）解決！ 在宅医療
 のお悩みポイント／ここまでわかった！ 気象と体調不
 良
DTSTART;VALUE=DATE:20260429
DTEND;VALUE=DATE:20260430
UID:283402371716
DESCRIPTION:2026-04-30治療(CHIRYO)2026年108巻5月号（No.6）解決
 ！ 在宅医療のお悩みポイント／ここまでわかった！ 気
 象と体調不良世戸 博之/佐藤 純南山堂
LOCATION:
END:VEVENT
END:VCALENDAR
