BEGIN:VCALENDAR
VERSION:2.0
PRODID:-//chikkutakku.com//RDFCal 1.0//EN
X-WR-CALDESC:GoogleカレンダーやiCalendar形式情報を共有シェ
 アしましょう。近所のイベントから全国のイベントま
 で今日のイベント検索やスケジュールを決めるならち
 っくたっく
X-WR-CALNAME:ちっくたっく
X-WR-TIMEZONE:UTC
BEGIN:VEVENT
SUMMARY:なぜ、「質問」だけで売れるのか？　気づけば成
 約に至っている「質問型営業」入門
DTSTART;VALUE=DATE:20260423
DTEND;VALUE=DATE:20260424
UID:283685329960
DESCRIPTION:2026-04-24なぜ、「質問」だけで売れるのか？　
 気づけば成約に至っている「質問型営業」入門青木毅
 日本実業出版社
LOCATION:
END:VEVENT
END:VCALENDAR
