BEGIN:VCALENDAR
VERSION:2.0
PRODID:-//chikkutakku.com//RDFCal 1.0//EN
X-WR-CALDESC:GoogleカレンダーやiCalendar形式情報を共有シェ
 アしましょう。近所のイベントから全国のイベントま
 で今日のイベント検索やスケジュールを決めるならち
 っくたっく
X-WR-CALNAME:ちっくたっく
X-WR-TIMEZONE:UTC
BEGIN:VEVENT
SUMMARY:大江戸礼賛
DTSTART;VALUE=DATE:20260424
DTEND;VALUE=DATE:20260524
UID:283916244592
DESCRIPTION:open 9:30 / end 17:30\n土曜日は19:30まで \n入館は閉
 館の30分前まで\n休館日：毎週月曜日（ただし5月4日は
 開館）、5月7日（木）\n\n【関連/参考ページ】\nhttp://www.
 edo-tokyo-museum.or.jp/ （江戸東京博物館）\nhttps://www.edo-tokyo
 -museum.or.jp/s-exhibition/raisan/#sec_outline
LOCATION:江戸東京博物館【関東】
END:VEVENT
END:VCALENDAR
