BEGIN:VCALENDAR
VERSION:2.0
PRODID:-//chikkutakku.com//RDFCal 1.0//EN
X-WR-CALDESC:GoogleカレンダーやiCalendar形式情報を共有シェ
 アしましょう。近所のイベントから全国のイベントま
 で今日のイベント検索やスケジュールを決めるならち
 っくたっく
X-WR-CALNAME:ちっくたっく
X-WR-TIMEZONE:UTC
BEGIN:VEVENT
SUMMARY:文京台東支部総会
DTSTART;VALUE=DATE-TIME:20260518T090000Z
DTEND;VALUE=DATE-TIME:20260518T100000Z
UID:284250824591
DESCRIPTION:文京台東支部総会
LOCATION:東京ドームホテル
END:VEVENT
END:VCALENDAR
