BEGIN:VCALENDAR
VERSION:2.0
PRODID:-//chikkutakku.com//RDFCal 1.0//EN
X-WR-CALDESC:GoogleカレンダーやiCalendar形式情報を共有シェ
 アしましょう。近所のイベントから全国のイベントま
 で今日のイベント検索やスケジュールを決めるならち
 っくたっく
X-WR-CALNAME:ちっくたっく
X-WR-TIMEZONE:UTC
BEGIN:VEVENT
SUMMARY:低音ケモノBar【Low Howl】
DTSTART;VALUE=DATE-TIME:20260422T130000Z
DTEND;VALUE=DATE-TIME:20260422T140000Z
UID:284503875177
DESCRIPTION:【イベント主催者】\n　西城権三郎\n【イベン
 ト内容】\n　低音ボイスのケモノ達に癒されませんか？
 \n\n低音ケモノBar【Low Howl】はキャスト1\,2名×ゲスト複
 数人がセットの接客型イベントです。\n\nケモノアバタ
 ーが好きな方だけではなく、低音ボイスを堪能したい
 方、雑談が好きな方等、男女関係なく気兼ねなく楽し
 めるイベントになっています。\n\n貴方にとって特別な
 夜になりますように。\n\n各インスタンスの情報は公式X
 (旧Twitter)にて発表します。\n皆様のご来店お待ちしてお
 ります。\n【イベントジャンル】\n　店舗系イベント\n
 【参加条件（モデル、人数制限など）】\n　各インスタ
 ンスゲスト:9名\n【参加方法】\n　営業時間になり次第
 インスタンスへjoin\n\nGroup+\nhttps://vrc.group/LOW.4265\n【備考
 】\n　公式X(旧Twitter)@BarLowHowl\n
LOCATION:
END:VEVENT
END:VCALENDAR
