BEGIN:VCALENDAR
VERSION:2.0
PRODID:-//chikkutakku.com//RDFCal 1.0//EN
X-WR-CALDESC:GoogleカレンダーやiCalendar形式情報を共有シェ
 アしましょう。近所のイベントから全国のイベントま
 で今日のイベント検索やスケジュールを決めるならち
 っくたっく
X-WR-CALNAME:ちっくたっく
X-WR-TIMEZONE:UTC
BEGIN:VEVENT
SUMMARY:【先着特典】BLACK TOKYO (CD＋DVD)(特典トレカB（全15
 種中ランダム2枚）)
DTSTART;VALUE=DATE:20260519
DTEND;VALUE=DATE:20260520
UID:284918230647
DESCRIPTION:2026-05-20【先着特典】BLACK TOKYO (CD＋DVD)(特典ト
 レカB（全15種中ランダム2枚）)THE RAMPAGE from EXILE TRIBEエ
 イベックス・ミュージック・クリエイティヴ(株)
LOCATION:
END:VEVENT
END:VCALENDAR
