BEGIN:VCALENDAR
VERSION:2.0
PRODID:-//chikkutakku.com//RDFCal 1.0//EN
X-WR-CALDESC:GoogleカレンダーやiCalendar形式情報を共有シェ
 アしましょう。近所のイベントから全国のイベントま
 で今日のイベント検索やスケジュールを決めるならち
 っくたっく
X-WR-CALNAME:ちっくたっく
X-WR-TIMEZONE:UTC
BEGIN:VEVENT
SUMMARY:【メロ】ちびもふ喫茶『おかえり！ごしゅじん♪
 』【エイプリルフール開催】
DTSTART;VALUE=DATE-TIME:20260425T140500Z
DTEND;VALUE=DATE-TIME:20260425T145900Z
UID:285871037736
DESCRIPTION:【イベント主催者】\n　riamusu\n【イベント内容
 】\n　ちびでもふもふしたアバター『ちびもふ』な子と
 一緒に『けもみみメイド喫茶』へ遊びに行きます。\n本
 日は時空の歪みでちびもふがメロくなっちゃった！　
 エイプリルフール営業です！\n見た目はメロい少年少女
 ！中身はちびもふのお相手！お願いします！\n【イベン
 トジャンル】\n　店舗系イベント\n【参加条件（モデル
 、人数制限など）】\n　X(旧Twitter)公式アカウントをご
 確認下さい\n【参加方法】\n　イベント開始時刻になっ
 たら当日公式アカウントに記載される\nインスタンスリ
 ーダーを一つ選んでフレンド申請した後　２回までリ
 クインを送ってください\nインスタンスリーダーがリク
 イン承認後　３分以内にご入場いただけなかった場合
 は再抽選するため参加出来ません　ご注意下さい\n\n下
 記公式アカウントでは予約抽選キャンペーンやイベン
 ト情報の発信を行っております\n是非、フォローしてく
 ださい\n※イベントの性質上　無邪気に近づくちびもふ
 が苦手な方の参加はご遠慮下さい\n【備考】\n　https://x.
 com/chibimofCafe
LOCATION:
END:VEVENT
END:VCALENDAR
