BEGIN:VCALENDAR
VERSION:2.0
PRODID:-//chikkutakku.com//RDFCal 1.0//EN
X-WR-CALDESC:GoogleカレンダーやiCalendar形式情報を共有シェ
 アしましょう。近所のイベントから全国のイベントま
 で今日のイベント検索やスケジュールを決めるならち
 っくたっく
X-WR-CALNAME:ちっくたっく
X-WR-TIMEZONE:UTC
BEGIN:VEVENT
SUMMARY:【Android 対応】第6回CZ集会
DTSTART;VALUE=DATE-TIME:20260425T130000Z
DTEND;VALUE=DATE-TIME:20260425T140000Z
UID:286069585361
DESCRIPTION:【イベント主催者】\n　-出禁-\n【イベント内
 容】\n　普段CZを愛用している方はもちろん、初期のこ
 ろに使っていた方・軽量アバターで使っている方でも
 大歓迎！\n使ってない方でも入り口でCZになれますので
 この機会になってみませんか？\n皆様のご参加をお待ち
 しております。\n【イベントジャンル】\n　改変アバタ
 ー交流会\, その他交流会\n【参加条件（モデル、人数制
 限など）】\n　CZアバターの使用\n【参加方法】\n　下記
 リンクからCZ集会グループに参加の上、グループ＋イン
 スタンスにJoinしてください\nhttps://vrc.group/CZMEET.4268\n【
 備考】\n　
LOCATION:
END:VEVENT
END:VCALENDAR
