BEGIN:VCALENDAR
VERSION:2.0
PRODID:-//chikkutakku.com//RDFCal 1.0//EN
X-WR-CALDESC:GoogleカレンダーやiCalendar形式情報を共有シェ
 アしましょう。近所のイベントから全国のイベントま
 で今日のイベント検索やスケジュールを決めるならち
 っくたっく
X-WR-CALNAME:ちっくたっく
X-WR-TIMEZONE:UTC
BEGIN:VEVENT
SUMMARY:วันเกิดนางสาวขวัญวลี  ว
 งศ์ดาว ครู กศน. ตำบลหัวทุ่ง 
 อำเภอลอง
DTSTART;VALUE=DATE-TIME:20260422T170000Z
DTEND;VALUE=DATE-TIME:20260423T170000Z
UID:286132989803
DESCRIPTION:วันเกิดนางสาวขวัญวลี  
 วงศ์ดาว ครู กศน. ตำบลหัวทุ่
 ง อำเภอลอง
LOCATION:
END:VEVENT
END:VCALENDAR
