BEGIN:VCALENDAR
VERSION:2.0
PRODID:-//chikkutakku.com//RDFCal 1.0//EN
X-WR-CALDESC:GoogleカレンダーやiCalendar形式情報を共有シェ
 アしましょう。近所のイベントから全国のイベントま
 で今日のイベント検索やスケジュールを決めるならち
 っくたっく
X-WR-CALNAME:ちっくたっく
X-WR-TIMEZONE:UTC
BEGIN:VEVENT
SUMMARY:Deep fried faith
DTSTART;VALUE=DATE-TIME:20260420T223000Z
DTEND;VALUE=DATE-TIME:20260421T000000Z
UID:286555729174
DESCRIPTION:Deep fried faith
LOCATION:Barrington Brewery & Restaurant\, 420 Stockbridge Rd Unit 4\, Gre
 at Barrington\, MA 01230\, USA
END:VEVENT
END:VCALENDAR
