BEGIN:VCALENDAR
VERSION:2.0
PRODID:-//chikkutakku.com//RDFCal 1.0//EN
X-WR-CALDESC:GoogleカレンダーやiCalendar形式情報を共有シェ
 アしましょう。近所のイベントから全国のイベントま
 で今日のイベント検索やスケジュールを決めるならち
 っくたっく
X-WR-CALNAME:ちっくたっく
X-WR-TIMEZONE:UTC
BEGIN:VEVENT
SUMMARY:【SayaTown】SayaTown DJ Night
DTSTART;VALUE=DATE-TIME:20260508T120000Z
DTEND;VALUE=DATE-TIME:20260508T150000Z
UID:286865391259
DESCRIPTION:【イベント主催者】\n　SayaTown町内会会長\n【
 イベント内容】\n　All Genre DJ\n【イベントジャンル】\n
 　音楽系イベント\n【参加条件（モデル、人数制限など
 ）】\n　Good Rankのアバターにて参加をお願いします(会
 場にもペデスタルを用意しています)\n【参加方法】\n　
 「SayaTownグループ(SAYAT.9271)」に参加いただけますと通知
 が飛びます\n【備考】\n　抽選会にて、来場者にプレゼ
 ントあり
LOCATION:
END:VEVENT
END:VCALENDAR
