BEGIN:VCALENDAR
VERSION:2.0
PRODID:-//chikkutakku.com//RDFCal 1.0//EN
X-WR-CALDESC:GoogleカレンダーやiCalendar形式情報を共有シェ
 アしましょう。近所のイベントから全国のイベントま
 で今日のイベント検索やスケジュールを決めるならち
 っくたっく
X-WR-CALNAME:ちっくたっく
X-WR-TIMEZONE:UTC
BEGIN:VEVENT
SUMMARY:MS Soccer Boys HOME vs. LdV
DTSTART;VALUE=DATE-TIME:20260427T223000Z
DTEND;VALUE=DATE-TIME:20260427T233000Z
UID:286910785051
DESCRIPTION:Meet on the field with your water bottle and soccer gear.MS So
 ccer CalendarEmail Mr. Olivares at julio-olivares@scusd.edu for any additi
 onal questions or concerns.
LOCATION:Sojourner Truth Park
END:VEVENT
END:VCALENDAR
