BEGIN:VCALENDAR
VERSION:2.0
PRODID:-//chikkutakku.com//RDFCal 1.0//EN
X-WR-CALDESC:GoogleカレンダーやiCalendar形式情報を共有シェ
 アしましょう。近所のイベントから全国のイベントま
 で今日のイベント検索やスケジュールを決めるならち
 っくたっく
X-WR-CALNAME:ちっくたっく
X-WR-TIMEZONE:UTC
BEGIN:VEVENT
SUMMARY:★重要★令和8年度新卒者オリエンテーション 開
 催のお知らせ（2026/4/21・22　オンライン型）　＊事前申
 込み：4/19 24:00まで
DTSTART;VALUE=DATE:20260420
DTEND;VALUE=DATE:20260422
UID:286911210644
DESCRIPTION:会員各位\n★重要★令和8年度新卒者オリエン
 テーション 開催のお知らせ（2026/4/21・22　オンライン
 型）　\n＊事前申込み：4/19 24:00まで\n新卒者を迎えられ
 ている所属の病院・施設の先輩方は，開催日程と入会
 方法について，ご教示の程，よろしくお願い申し上げ
 ます。\n詳細は、下記の資料をご参照ください（PDF）\n\
 n\n
LOCATION:
END:VEVENT
END:VCALENDAR
